BEGIN:VCALENDAR
CALSCALE:GREGORIAN
VERSION:2.0
PRODID:-//Ex338 ICalendar//EN
BEGIN:VEVENT
DTSTAMP:20260425T214628Z
DTSTART:20191101
SUMMARY:Deadline to submit entry fee for The 338 Challenge
UID:482dc89d-4702-48bc-b16d-f757ddb306dc
END:VEVENT
BEGIN:VEVENT
DTSTAMP:20260425T214628Z
DTSTART:20191112
SUMMARY:CFB 338 Waiver Deadline
UID:c6010c3b-0b1a-448f-afb3-d76129e410b8
END:VEVENT
BEGIN:VEVENT
DTSTAMP:20260425T214628Z
DTSTART:20191130
SUMMARY:CFB 338 Trade Deadline
UID:3891494c-825a-42c5-8e55-1acef52ca8fb
END:VEVENT
BEGIN:VEVENT
DTSTAMP:20260425T214628Z
DTSTART:20200113
SUMMARY:338 Championship: CFB
UID:8d69f762-401a-4eec-a1b3-aba0a63ca5dc
END:VEVENT
BEGIN:VEVENT
DTSTAMP:20260425T214628Z
DTSTART:20200113
SUMMARY:Australian Open (W) 338 Waiver and Trade Deadline
UID:655146bf-a578-495a-a50c-92b13d50ade4
END:VEVENT
BEGIN:VEVENT
DTSTAMP:20260425T214628Z
DTSTART:20200201
SUMMARY:338 Championship: Australian Open (W)
UID:ed54bc33-cac8-46cb-acb4-a251625a7e7e
END:VEVENT
BEGIN:VEVENT
DTSTAMP:20260425T214628Z
DTSTART:20200113
SUMMARY:Australian Open (M) 338 Waiver and Trade Deadline
UID:e149ac51-2a6c-429e-925c-2407773573e7
END:VEVENT
BEGIN:VEVENT
DTSTAMP:20260425T214628Z
DTSTART:20200202
SUMMARY:338 Championship: Australian Open (M)
UID:ea65c77b-9a57-408e-87da-9f91a2dd1ce4
END:VEVENT
BEGIN:VEVENT
DTSTAMP:20260425T214628Z
DTSTART:20191209
SUMMARY:NFL 338 Waiver Deadline
UID:b264d512-5bd9-4bbb-9be0-e36c136c5b04
END:VEVENT
BEGIN:VEVENT
DTSTAMP:20260425T214628Z
DTSTART:20191223
SUMMARY:NFL 338 Trade Deadline
UID:4c6e6644-a991-4f4b-b614-1b045a757c8a
END:VEVENT
BEGIN:VEVENT
DTSTAMP:20260425T214628Z
DTSTART:20200202
SUMMARY:338 Championship: NFL
UID:f33eb0d5-993a-4af7-b588-719bc72c65b3
END:VEVENT
BEGIN:VEVENT
DTSTAMP:20260425T214628Z
DTSTART:20200315
SUMMARY:CBK 338 Waiver Deadline
UID:78af4e03-a43b-44d7-bdb2-885ddd09e8ce
END:VEVENT
BEGIN:VEVENT
DTSTAMP:20260425T214628Z
DTSTART:20200318
SUMMARY:CBK 338 Trade Deadline
UID:54c0e916-35d4-4882-9c36-0e0e6b162343
END:VEVENT
BEGIN:VEVENT
DTSTAMP:20260425T214628Z
DTSTART:20200406
SUMMARY:338 Championship: CBK
UID:adea9a89-0072-42c0-8cae-f3d34b2e2053
END:VEVENT
BEGIN:VEVENT
DTSTAMP:20260425T214628Z
DTSTART:20200221
SUMMARY:CH 338 Waiver Deadline
UID:a2ef1be2-650a-4720-9ff9-7d61b225fc36
END:VEVENT
BEGIN:VEVENT
DTSTAMP:20260425T214628Z
DTSTART:20200225
SUMMARY:CH 338 Trade Deadline
UID:7030d29f-5a4e-438a-aa79-efd9de4aff1c
END:VEVENT
BEGIN:VEVENT
DTSTAMP:20260425T214628Z
DTSTART:20200410
SUMMARY:338 Championship: CH
UID:dbc9ae70-2cae-4c70-b18c-814383f170fa
END:VEVENT
BEGIN:VEVENT
DTSTAMP:20260425T214628Z
DTSTART:20200405
SUMMARY:Masters 338 Waiver and Trade Deadline
UID:7a98dde7-94f1-420b-ae50-97864aedc61b
END:VEVENT
BEGIN:VEVENT
DTSTAMP:20260425T214628Z
DTSTART:20200412
SUMMARY:338 Championship: Masters
UID:d6bf0a3c-e85d-4559-b5d5-985287c34f53
END:VEVENT
BEGIN:VEVENT
DTSTAMP:20260425T214628Z
DTSTART:20200302
SUMMARY:KD 338 Waiver and Trade Deadline
UID:7e30124f-74b0-4d4d-b5ec-c9958ed2b151
END:VEVENT
BEGIN:VEVENT
DTSTAMP:20260425T214628Z
DTSTART:20200502
SUMMARY:338 Championship: KD
UID:495b2829-021d-4e1d-9fcd-0d8b03d41aa1
END:VEVENT
BEGIN:VEVENT
DTSTAMP:20260425T214628Z
DTSTART:20200310
SUMMARY:PGA 338 Waiver and Trade Deadline
UID:d5eac79d-e716-4a59-9fbf-dd4e944a41f0
END:VEVENT
BEGIN:VEVENT
DTSTAMP:20260425T214628Z
DTSTART:20200514
SUMMARY:338 Championship: PGA
UID:70e006c4-0b73-4fd9-9c63-4bd20547dbf6
END:VEVENT
BEGIN:VEVENT
DTSTAMP:20260425T214628Z
DTSTART:20191212
SUMMARY:CL 338 Waiver Deadline
UID:f52bbb0e-2a92-468a-8cb7-3b42927c9c6a
END:VEVENT
BEGIN:VEVENT
DTSTAMP:20260425T214628Z
DTSTART:20200306
SUMMARY:CL 338 Trade Deadline
UID:8365085d-81de-4f13-9b59-4e3a6b13412a
END:VEVENT
BEGIN:VEVENT
DTSTAMP:20260425T214628Z
DTSTART:20200530
SUMMARY:338 Championship: CL
UID:e1c453ec-7b27-46a0-bfbd-d17c762c5b60
END:VEVENT
BEGIN:VEVENT
DTSTAMP:20260425T214628Z
DTSTART:20200518
SUMMARY:French Open (W) 338 Waiver and Trade Deadline
UID:36513150-788a-44af-9004-08770401a4e2
END:VEVENT
BEGIN:VEVENT
DTSTAMP:20260425T214628Z
DTSTART:20200606
SUMMARY:338 Championship: French Open (W)
UID:c2fd06db-a37f-4d67-bb3b-a0281ce9e271
END:VEVENT
BEGIN:VEVENT
DTSTAMP:20260425T214628Z
DTSTART:20200518
SUMMARY:French Open (M) 338 Waiver and Trade Deadline
UID:da973e92-51a0-4a35-bd64-9390e707a560
END:VEVENT
BEGIN:VEVENT
DTSTAMP:20260425T214628Z
DTSTART:20200607
SUMMARY:338 Championship: French Open (M)
UID:ae2eac7e-d05d-46c2-b237-5f7c35c022a2
END:VEVENT
BEGIN:VEVENT
DTSTAMP:20260425T214628Z
DTSTART:20200314
SUMMARY:NHL 338 Waiver and Trade Deadline
UID:c9f319f9-164c-4017-98c8-ad20863cb1bb
END:VEVENT
BEGIN:VEVENT
DTSTAMP:20260425T214628Z
DTSTART:20200610
SUMMARY:338 Championship: NHL
UID:cd110e4c-94aa-4e6a-ab9b-0138e564c099
END:VEVENT
BEGIN:VEVENT
DTSTAMP:20260425T214628Z
DTSTART:20200314
SUMMARY:NBA 338 Waiver and Trade Deadline
UID:5bc1ff72-cc8b-4a3d-8aa2-b11294fede59
END:VEVENT
BEGIN:VEVENT
DTSTAMP:20260425T214628Z
DTSTART:20200620
SUMMARY:338 Championship: NBA
UID:54d31983-f0a6-42c7-b75f-c904f3aef54a
END:VEVENT
BEGIN:VEVENT
DTSTAMP:20260425T214628Z
DTSTART:20200614
SUMMARY:US Open (PGA) 338 Waiver and Trade Deadline
UID:18673985-e933-40c8-a315-951bc14b8d1b
END:VEVENT
BEGIN:VEVENT
DTSTAMP:20260425T214628Z
DTSTART:20200621
SUMMARY:338 Championship: US Open (PGA)
UID:654b81db-3aca-4cc1-b487-c1e37c6fec0f
END:VEVENT
BEGIN:VEVENT
DTSTAMP:20260425T214628Z
DTSTART:20200224
SUMMARY:CBS 338 Waiver Deadline
UID:7b4e5765-b091-4a0b-9eca-f5fb67afbda8
END:VEVENT
BEGIN:VEVENT
DTSTAMP:20260425T214628Z
DTSTART:20200301
SUMMARY:CBS 338 Trade Deadline
UID:1ef1c859-da92-4c02-8966-b20308ecb1db
END:VEVENT
BEGIN:VEVENT
DTSTAMP:20260425T214628Z
DTSTART:20200624
SUMMARY:338 Championship: CBS
UID:7abb07cf-78e3-4c91-8c4c-864c92be88ef
END:VEVENT
BEGIN:VEVENT
DTSTAMP:20260425T214628Z
DTSTART:20200622
SUMMARY:Wimbledon (W) 338 Waiver and Trade Deadline
UID:353979aa-3cce-472f-a9f0-7e386dd8d71d
END:VEVENT
BEGIN:VEVENT
DTSTAMP:20260425T214628Z
DTSTART:20200711
SUMMARY:338 Championship: Wimbledon (W)
UID:774ea0b9-63ca-4d44-9370-20982b850d68
END:VEVENT
BEGIN:VEVENT
DTSTAMP:20260425T214628Z
DTSTART:20200222
SUMMARY:WTn 338 Waiver and Trade Deadline
UID:3d808cf8-dda2-4748-a5a0-a72919df9b80
END:VEVENT
BEGIN:VEVENT
DTSTAMP:20260425T214628Z
DTSTART:20200711
SUMMARY:338 Championship: WTn
UID:7f4823d5-aa52-442e-8684-85cb4e60c296
END:VEVENT
BEGIN:VEVENT
DTSTAMP:20260425T214628Z
DTSTART:20200701
SUMMARY:MTn 338 Waiver Deadline
UID:6034bcba-7615-4448-8c99-631a9a61720f
END:VEVENT
BEGIN:VEVENT
DTSTAMP:20260425T214628Z
DTSTART:20200222
SUMMARY:MTn 338 Trade Deadline
UID:34f3c721-4d92-412f-835d-e4e52c67fd6e
END:VEVENT
BEGIN:VEVENT
DTSTAMP:20260425T214628Z
DTSTART:20200711
SUMMARY:338 Championship: MTn
UID:44f2d246-9ec4-418e-87fb-9c051f6741b0
END:VEVENT
BEGIN:VEVENT
DTSTAMP:20260425T214628Z
DTSTART:20200622
SUMMARY:Wimbledon (M) 338 Waiver and Trade Deadline
UID:ab9d74d1-203b-413a-959d-60201f4cf58b
END:VEVENT
BEGIN:VEVENT
DTSTAMP:20260425T214628Z
DTSTART:20200712
SUMMARY:338 Championship: Wimbledon (M)
UID:e346501a-c844-4e71-ab33-4d428d2e2ebe
END:VEVENT
BEGIN:VEVENT
DTSTAMP:20260425T214628Z
DTSTART:20200712
SUMMARY:British Open 338 Waiver and Trade Deadline
UID:bc9be033-2823-4f4e-89ca-4bf488608b07
END:VEVENT
BEGIN:VEVENT
DTSTAMP:20260425T214628Z
DTSTART:20200719
SUMMARY:338 Championship: British Open
UID:f7f085af-6897-4db5-bb7a-cb7bf8138a67
END:VEVENT
BEGIN:VEVENT
DTSTAMP:20260425T214628Z
DTSTART:20200312
SUMMARY:PGA 338 Waiver and Trade Deadline
UID:ca17b68f-9273-4bd3-8a21-a53c8acbebbd
END:VEVENT
BEGIN:VEVENT
DTSTAMP:20260425T214628Z
DTSTART:20200719
SUMMARY:338 Championship: PGA
UID:fbbb2bcd-9769-4d8e-8bc9-a178a05bd299
END:VEVENT
BEGIN:VEVENT
DTSTAMP:20260425T214628Z
DTSTART:20200301
SUMMARY:MLB 338 Waiver Deadline
UID:dbe34b16-b876-4c1a-99cf-d2f2a97c1a4d
END:VEVENT
BEGIN:VEVENT
DTSTAMP:20260425T214628Z
DTSTART:20200601
SUMMARY:MLB 338 Trade Deadline
UID:8f9bc01f-5d50-4385-8606-2a3267a60ba9
END:VEVENT
BEGIN:VEVENT
DTSTAMP:20260425T214628Z
DTSTART:20200731
SUMMARY:338 Championship: MLB
UID:184739c4-3c13-455b-9a5d-4b525c9c5b3e
END:VEVENT
BEGIN:VEVENT
DTSTAMP:20260425T214628Z
DTSTART:20200226
SUMMARY:STP 338 Waiver Deadline
UID:1d3fd620-bd90-4b60-b42a-11b7349ad7dd
END:VEVENT
BEGIN:VEVENT
DTSTAMP:20260425T214628Z
DTSTART:20200131
SUMMARY:STP 338 Trade Deadline
UID:bd87f763-7ef4-407e-b314-84715d09f640
END:VEVENT
BEGIN:VEVENT
DTSTAMP:20260425T214628Z
DTSTART:20200802
SUMMARY:338 Championship: STP
UID:90a73dff-0207-4c99-a0c4-04a40528a98a
END:VEVENT
BEGIN:VEVENT
DTSTAMP:20260425T214628Z
DTSTART:20200314
SUMMARY:LLWS 338 Waiver and Trade Deadline
UID:38c54e8a-a262-4e3b-9604-2c4fe18b6c71
END:VEVENT
BEGIN:VEVENT
DTSTAMP:20260425T214628Z
DTSTART:20200825
SUMMARY:338 Championship: LLWS
UID:9209c220-4001-47c4-88d0-ff1c0a7756df
END:VEVENT
BEGIN:VEVENT
DTSTAMP:20260425T214628Z
DTSTART:20200826
SUMMARY:US Open (W) 338 Waiver and Trade Deadline
UID:2042e2ff-b5af-4d05-8b30-d65488fc58cc
END:VEVENT
BEGIN:VEVENT
DTSTAMP:20260425T214628Z
DTSTART:20200912
SUMMARY:338 Championship: US Open (W)
UID:c9166261-bd27-4cf7-a3f5-4bca86b5762b
END:VEVENT
BEGIN:VEVENT
DTSTAMP:20260425T214628Z
DTSTART:20200826
SUMMARY:US Open (M) 338 Waiver and Trade Deadline
UID:95e7d8a2-695b-4358-8468-beb7a843068e
END:VEVENT
BEGIN:VEVENT
DTSTAMP:20260425T214628Z
DTSTART:20200913
SUMMARY:338 Championship: US Open (M)
UID:332da9f4-5309-459b-a7a0-128c47251b57
END:VEVENT
BEGIN:VEVENT
DTSTAMP:20260425T214628Z
DTSTART:20200913
SUMMARY:Fall US Open (PGA) 338 Waiver and Trade Deadline
UID:62805549-b6e8-46b3-9f81-5b33740dc7a4
END:VEVENT
BEGIN:VEVENT
DTSTAMP:20260425T214628Z
DTSTART:20200917
SUMMARY:338 Championship: Fall US Open (PGA)
UID:9ae0595a-684a-4083-9ad6-02e3b4a93b4a
END:VEVENT
BEGIN:VEVENT
DTSTAMP:20260425T214628Z
DTSTART:20200917
SUMMARY:Fall French Open (W) 338 Waiver and Trade Deadline
UID:624edc1d-3b0a-4611-9614-140b0e7600c5
END:VEVENT
BEGIN:VEVENT
DTSTAMP:20260425T214628Z
DTSTART:20201010
SUMMARY:338 Championship: Fall French Open (W)
UID:92c389e3-0a14-4244-8a8d-5810ae7a5a23
END:VEVENT
BEGIN:VEVENT
DTSTAMP:20260425T214628Z
DTSTART:20200921
SUMMARY:Fall French Open (M) 338 Waiver and Trade Deadline
UID:796d5335-9db9-437a-bdc5-bef1394c0ba8
END:VEVENT
BEGIN:VEVENT
DTSTAMP:20260425T214628Z
DTSTART:20201011
SUMMARY:338 Championship: Fall French Open (M)
UID:7ef7630c-d048-4872-95b0-dd01b1154701
END:VEVENT
BEGIN:VEVENT
DTSTAMP:20260425T214628Z
DTSTART:20200920
SUMMARY:MLB 338 Waiver and Trade Deadline
UID:7212799b-e86b-432c-8740-f211670c7f2c
END:VEVENT
BEGIN:VEVENT
DTSTAMP:20260425T214628Z
DTSTART:20201031
SUMMARY:338 Championship: MLB
UID:94b9dc6c-36fd-4017-a600-442286a91780
END:VEVENT
BEGIN:VEVENT
DTSTAMP:20260425T214628Z
DTSTART:20201108
SUMMARY:Fall Masters 338 Waiver and Trade Deadline
UID:f9ca0488-a52c-476f-9205-59aa342b0ae9
END:VEVENT
BEGIN:VEVENT
DTSTAMP:20260425T214628Z
DTSTART:20201112
SUMMARY:338 Championship: Fall Masters
UID:6f6b1e58-f087-49a3-8377-2791364b0156
END:VEVENT
END:VCALENDAR
