BEGIN:VCALENDAR
CALSCALE:GREGORIAN
VERSION:2.0
PRODID:-//Ex338 ICalendar//EN
BEGIN:VEVENT
DTSTAMP:20260424T195020Z
DTSTART:20211101
SUMMARY:Deadline to submit entry fee for The 338 Challenge
UID:b6f74551-87bb-411c-9b9d-a7b72a928c6e
END:VEVENT
BEGIN:VEVENT
DTSTAMP:20260424T195020Z
DTSTART:20210818
SUMMARY:LLWS 338 Waiver and Trade Deadline
UID:d9dad823-790b-4608-9d4b-0be11a8ab6ec
END:VEVENT
BEGIN:VEVENT
DTSTAMP:20260424T195020Z
DTSTART:20210829
SUMMARY:338 Championship: LLWS
UID:d242acb7-29ea-40de-ac7d-3bf16e54b749
END:VEVENT
BEGIN:VEVENT
DTSTAMP:20260424T195020Z
DTSTART:20210823
SUMMARY:US Open (W) 338 Waiver and Trade Deadline
UID:b239cc74-bed0-4108-a4f9-f56d7ea54ca5
END:VEVENT
BEGIN:VEVENT
DTSTAMP:20260424T195020Z
DTSTART:20210911
SUMMARY:338 Championship: US Open (W)
UID:4d280748-7f00-4a1e-92b6-097e037b9d5a
END:VEVENT
BEGIN:VEVENT
DTSTAMP:20260424T195020Z
DTSTART:20210823
SUMMARY:US Open (M) 338 Waiver and Trade Deadline
UID:dcea43a7-22ab-495f-be97-596dc1060436
END:VEVENT
BEGIN:VEVENT
DTSTAMP:20260424T195020Z
DTSTART:20210911
SUMMARY:338 Championship: US Open (M)
UID:6f9185d4-d9f4-437f-be0e-597c32189a4f
END:VEVENT
BEGIN:VEVENT
DTSTAMP:20260424T195020Z
DTSTART:20210905
SUMMARY:MLB 338 Waiver and Trade Deadline
UID:b75d606f-167c-42a4-bb21-76671aaba07e
END:VEVENT
BEGIN:VEVENT
DTSTAMP:20260424T195020Z
DTSTART:20211031
SUMMARY:338 Championship: MLB
UID:1e3f9672-eb68-420e-816d-cbf37fc85be8
END:VEVENT
BEGIN:VEVENT
DTSTAMP:20260424T195020Z
DTSTART:20211116
SUMMARY:CFB 338 Waiver Deadline
UID:6d73ec4e-4eb6-48a4-adc7-549d7babed45
END:VEVENT
BEGIN:VEVENT
DTSTAMP:20260424T195020Z
DTSTART:20211128
SUMMARY:CFB 338 Trade Deadline
UID:98acfc7a-5985-4100-a02a-5d471097bef0
END:VEVENT
BEGIN:VEVENT
DTSTAMP:20260424T195020Z
DTSTART:20220111
SUMMARY:338 Championship: CFB
UID:fb827f09-3e26-4445-9b32-0dca83a0bf82
END:VEVENT
BEGIN:VEVENT
DTSTAMP:20260424T195020Z
DTSTART:20220111
SUMMARY:Australian Open (W) 338 Waiver and Trade Deadline
UID:1f29992e-934b-4e43-a595-fe708128ff06
END:VEVENT
BEGIN:VEVENT
DTSTAMP:20260424T195020Z
DTSTART:20220129
SUMMARY:338 Championship: Australian Open (W)
UID:562d3a21-e04c-4b24-8de7-251cf41d9558
END:VEVENT
BEGIN:VEVENT
DTSTAMP:20260424T195020Z
DTSTART:20220111
SUMMARY:Australian Open (M) 338 Waiver and Trade Deadline
UID:ea2c02d6-fa9d-45f3-b5e9-9d75860e8161
END:VEVENT
BEGIN:VEVENT
DTSTAMP:20260424T195020Z
DTSTART:20220130
SUMMARY:338 Championship: Australian Open (M)
UID:5abd4a8d-fb64-4a43-af25-8bcb3f538631
END:VEVENT
BEGIN:VEVENT
DTSTAMP:20260424T195020Z
DTSTART:20211213
SUMMARY:NFL 338 Waiver Deadline
UID:0544bcd0-fc85-41df-b8bb-2730de3de64a
END:VEVENT
BEGIN:VEVENT
DTSTAMP:20260424T195020Z
DTSTART:20220103
SUMMARY:NFL 338 Trade Deadline
UID:d48d33ed-12ec-4ae6-8cb9-3ca24e210f18
END:VEVENT
BEGIN:VEVENT
DTSTAMP:20260424T195020Z
DTSTART:20220213
SUMMARY:338 Championship: NFL
UID:a44c69b5-612f-46a2-82ea-6c5af33be826
END:VEVENT
BEGIN:VEVENT
DTSTAMP:20260424T195020Z
DTSTART:20220313
SUMMARY:CBK 338 Waiver Deadline
UID:23558561-53c9-4a2d-94e8-a0163c116cda
END:VEVENT
BEGIN:VEVENT
DTSTAMP:20260424T195020Z
DTSTART:20220315
SUMMARY:CBK 338 Trade Deadline
UID:c287fe88-6132-464d-8f4c-50ae8fe8f377
END:VEVENT
BEGIN:VEVENT
DTSTAMP:20260424T195020Z
DTSTART:20220403
SUMMARY:338 Championship: CBK
UID:641087ca-2510-424e-aa28-e33d78ba04d5
END:VEVENT
BEGIN:VEVENT
DTSTAMP:20260424T195020Z
DTSTART:20220313
SUMMARY:WBK 338 Waiver Deadline
UID:1d39fc5d-8288-4b6d-b407-d78fc91fb6fd
END:VEVENT
BEGIN:VEVENT
DTSTAMP:20260424T195020Z
DTSTART:20220317
SUMMARY:WBK 338 Trade Deadline
UID:a24ab665-2cb1-4943-8b54-fbe967077aab
END:VEVENT
BEGIN:VEVENT
DTSTAMP:20260424T195020Z
DTSTART:20220403
SUMMARY:338 Championship: WBK
UID:ea5c7f64-376f-4a72-9886-3491d67dd36a
END:VEVENT
BEGIN:VEVENT
DTSTAMP:20260424T195020Z
DTSTART:20220319
SUMMARY:CH 338 Waiver Deadline
UID:a9d0f4ff-a698-4837-a240-1b26216dcb5a
END:VEVENT
BEGIN:VEVENT
DTSTAMP:20260424T195020Z
DTSTART:20220323
SUMMARY:CH 338 Trade Deadline
UID:1177d886-971a-45ca-8d85-1e4cd3925e2e
END:VEVENT
BEGIN:VEVENT
DTSTAMP:20260424T195020Z
DTSTART:20220409
SUMMARY:338 Championship: CH
UID:d4b5d9f1-de43-47ba-a6e6-b3dc346f14fe
END:VEVENT
BEGIN:VEVENT
DTSTAMP:20260424T195020Z
DTSTART:20220403
SUMMARY:Masters 338 Waiver and Trade Deadline
UID:ef9124ca-a77b-4f91-b3ed-fd11af0089db
END:VEVENT
BEGIN:VEVENT
DTSTAMP:20260424T195020Z
DTSTART:20220410
SUMMARY:338 Championship: Masters
UID:ce8e59cd-9250-4734-93e7-df6ad65e4303
END:VEVENT
BEGIN:VEVENT
DTSTAMP:20260424T195020Z
DTSTART:20220507
SUMMARY:KD 338 Waiver Deadline
UID:2e759c74-51b7-4c64-a701-bd2243bdff50
END:VEVENT
BEGIN:VEVENT
DTSTAMP:20260424T195020Z
DTSTART:20220507
SUMMARY:KD 338 Trade Deadline
UID:aeaf60ca-8407-4416-86b1-65474b49b8c1
END:VEVENT
BEGIN:VEVENT
DTSTAMP:20260424T195020Z
DTSTART:20220507
SUMMARY:338 Championship: KD
UID:0eb46441-eb84-4049-b6cc-d887a32183ee
END:VEVENT
BEGIN:VEVENT
DTSTAMP:20260424T195020Z
DTSTART:20220516
SUMMARY:PGA 338 Waiver and Trade Deadline
UID:97f5139f-c4af-4ab1-ab6d-2f97d86186f0
END:VEVENT
BEGIN:VEVENT
DTSTAMP:20260424T195020Z
DTSTART:20220522
SUMMARY:338 Championship: PGA
UID:eefd1201-88eb-4960-a341-f2c0050c94dd
END:VEVENT
BEGIN:VEVENT
DTSTAMP:20260424T195020Z
DTSTART:20211209
SUMMARY:CL 338 Waiver Deadline
UID:279bbad7-14db-48a6-82e3-fa6aa0502db3
END:VEVENT
BEGIN:VEVENT
DTSTAMP:20260424T195020Z
DTSTART:20220304
SUMMARY:CL 338 Trade Deadline
UID:42baed98-f94c-4ad9-84b3-49f2b94dc3ff
END:VEVENT
BEGIN:VEVENT
DTSTAMP:20260424T195020Z
DTSTART:20220528
SUMMARY:338 Championship: CL
UID:8e892085-d583-4e34-bc0d-2ee574a617c5
END:VEVENT
BEGIN:VEVENT
DTSTAMP:20260424T195020Z
DTSTART:20220519
SUMMARY:French Open (W) 338 Waiver and Trade Deadline
UID:7c50b8c5-d120-49aa-bb24-f74c4297b4d6
END:VEVENT
BEGIN:VEVENT
DTSTAMP:20260424T195020Z
DTSTART:20220604
SUMMARY:338 Championship: French Open (W)
UID:c79909e8-ea9a-445f-bc6f-ad6f0b0004a6
END:VEVENT
BEGIN:VEVENT
DTSTAMP:20260424T195020Z
DTSTART:20220519
SUMMARY:French Open (M) 338 Waiver and Trade Deadline
UID:0c2c745b-c4fc-4e24-9bbe-326f8589ccc8
END:VEVENT
BEGIN:VEVENT
DTSTAMP:20260424T195020Z
DTSTART:20220605
SUMMARY:338 Championship: French Open (M)
UID:68c7b4ff-151b-432e-a311-afde1d93edb4
END:VEVENT
BEGIN:VEVENT
DTSTAMP:20260424T195020Z
DTSTART:20220328
SUMMARY:NHL 338 Waiver and Trade Deadline
UID:3eb88d48-1d77-40ca-b51b-9ac1ac95eb54
END:VEVENT
BEGIN:VEVENT
DTSTAMP:20260424T195020Z
DTSTART:20220617
SUMMARY:338 Championship: NHL
UID:9ce3db21-12b7-4a64-b625-f2a61178c78b
END:VEVENT
BEGIN:VEVENT
DTSTAMP:20260424T195020Z
DTSTART:20220613
SUMMARY:US Open (PGA) 338 Waiver and Trade Deadline
UID:e8ef96f6-8e21-4347-a180-5b72c92e2f18
END:VEVENT
BEGIN:VEVENT
DTSTAMP:20260424T195020Z
DTSTART:20220617
SUMMARY:338 Championship: US Open (PGA)
UID:303b14e7-cd3f-4fb8-add1-2e9b9525a989
END:VEVENT
BEGIN:VEVENT
DTSTAMP:20260424T195020Z
DTSTART:20220328
SUMMARY:NBA 338 Waiver and Trade Deadline
UID:07625ce4-4263-432d-b01c-73d86de97ba1
END:VEVENT
BEGIN:VEVENT
DTSTAMP:20260424T195020Z
DTSTART:20220617
SUMMARY:338 Championship: NBA
UID:204c9efa-8821-43a2-b037-33612513a720
END:VEVENT
BEGIN:VEVENT
DTSTAMP:20260424T195020Z
DTSTART:20220531
SUMMARY:CBS 338 Waiver Deadline
UID:4d32b36c-1e30-485a-b9d8-301a848a1e01
END:VEVENT
BEGIN:VEVENT
DTSTAMP:20260424T195020Z
DTSTART:20220608
SUMMARY:CBS 338 Trade Deadline
UID:3d004be7-f677-45ef-b6c4-461bee39e1da
END:VEVENT
BEGIN:VEVENT
DTSTAMP:20260424T195020Z
DTSTART:20220626
SUMMARY:338 Championship: CBS
UID:d905df87-6f62-4d5c-a649-102f607e2cf7
END:VEVENT
BEGIN:VEVENT
DTSTAMP:20260424T195020Z
DTSTART:20220627
SUMMARY:WTn 338 Waiver Deadline
UID:85ead4f1-7234-4ec9-be5f-d5c88f0c03bb
END:VEVENT
BEGIN:VEVENT
DTSTAMP:20260424T195020Z
DTSTART:20220621
SUMMARY:WTn 338 Trade Deadline
UID:27d34d1c-fbb8-42b4-a0c4-c6d7e671b59e
END:VEVENT
BEGIN:VEVENT
DTSTAMP:20260424T195020Z
DTSTART:20220710
SUMMARY:338 Championship: WTn
UID:0837c467-ef39-4317-b772-c160d66b076b
END:VEVENT
BEGIN:VEVENT
DTSTAMP:20260424T195020Z
DTSTART:20220620
SUMMARY:Wimbledon (W) 338 Waiver Deadline
UID:6f224916-d363-4a11-83fb-6cfaabc4e53d
END:VEVENT
BEGIN:VEVENT
DTSTAMP:20260424T195020Z
DTSTART:20220620
SUMMARY:Wimbledon (W) 338 Trade Deadline
UID:7132d46d-582f-439c-a677-5c648cc5766d
END:VEVENT
BEGIN:VEVENT
DTSTAMP:20260424T195020Z
DTSTART:20220710
SUMMARY:338 Championship: Wimbledon (W)
UID:a2d6d8a8-169d-42a3-bdcd-c1528097377e
END:VEVENT
BEGIN:VEVENT
DTSTAMP:20260424T195020Z
DTSTART:20220620
SUMMARY:Wimbledon (M) 338 Waiver and Trade Deadline
UID:6caf3a48-7587-4f5a-b6c2-4c89c4a5f447
END:VEVENT
BEGIN:VEVENT
DTSTAMP:20260424T195020Z
DTSTART:20220710
SUMMARY:338 Championship: Wimbledon (M)
UID:23bc616e-91df-4c54-9758-85e47793c0b6
END:VEVENT
BEGIN:VEVENT
DTSTAMP:20260424T195020Z
DTSTART:20220627
SUMMARY:MTn 338 Waiver Deadline
UID:35121fb5-dbfa-4b55-a8b1-0377ac971a08
END:VEVENT
BEGIN:VEVENT
DTSTAMP:20260424T195020Z
DTSTART:20220621
SUMMARY:MTn 338 Trade Deadline
UID:d87be5aa-d996-4d01-a286-61cda892f7f5
END:VEVENT
BEGIN:VEVENT
DTSTAMP:20260424T195020Z
DTSTART:20220711
SUMMARY:338 Championship: MTn
UID:51073a36-e766-4775-9dbd-032db20ac761
END:VEVENT
BEGIN:VEVENT
DTSTAMP:20260424T195020Z
DTSTART:20220710
SUMMARY:British Open 338 Waiver and Trade Deadline
UID:0889750a-34e0-4305-9d25-ef2fb0ef0a40
END:VEVENT
BEGIN:VEVENT
DTSTAMP:20260424T195020Z
DTSTART:20220717
SUMMARY:338 Championship: British Open
UID:c9f0f916-4277-4d5e-9cc3-1f60e71723e2
END:VEVENT
BEGIN:VEVENT
DTSTAMP:20260424T195020Z
DTSTART:20220710
SUMMARY:PGA 338 Waiver and Trade Deadline
UID:ffb1148f-21c0-4eea-ba96-2448eb2c4cee
END:VEVENT
BEGIN:VEVENT
DTSTAMP:20260424T195020Z
DTSTART:20220717
SUMMARY:338 Championship: PGA
UID:1991aa92-eb0d-43e9-a670-e19cda5dff5b
END:VEVENT
END:VCALENDAR
