BEGIN:VCALENDAR
CALSCALE:GREGORIAN
VERSION:2.0
PRODID:-//Ex338 ICalendar//EN
BEGIN:VEVENT
DTSTAMP:20260424T204414Z
DTSTART:20221101
SUMMARY:Deadline to submit entry fee for The 338 Challenge
UID:4c21661a-fa3f-4463-837b-c9600bd2d196
END:VEVENT
BEGIN:VEVENT
DTSTAMP:20260424T204414Z
DTSTART:20220813
SUMMARY:LLWS 338 Waiver and Trade Deadline
UID:4a8eea10-16ae-4943-ba7e-3a7ec3c969af
END:VEVENT
BEGIN:VEVENT
DTSTAMP:20260424T204414Z
DTSTART:20220828
SUMMARY:338 Championship: LLWS
UID:96beda33-5a79-4495-a6ea-db0ee1869f5d
END:VEVENT
BEGIN:VEVENT
DTSTAMP:20260424T204414Z
DTSTART:20220821
SUMMARY:US Open (WT) 338 Waiver and Trade Deadline
UID:76fd496d-c108-4967-8145-47debb05e76b
END:VEVENT
BEGIN:VEVENT
DTSTAMP:20260424T204414Z
DTSTART:20220910
SUMMARY:338 Championship: US Open (WT)
UID:35367cb6-86c7-4eff-ad5c-fdc9a3b65cdd
END:VEVENT
BEGIN:VEVENT
DTSTAMP:20260424T204414Z
DTSTART:20220821
SUMMARY:US Open (MT) 338 Waiver and Trade Deadline
UID:52834604-b45b-41ed-bf21-d647aa0ed654
END:VEVENT
BEGIN:VEVENT
DTSTAMP:20260424T204414Z
DTSTART:20220911
SUMMARY:338 Championship: US Open (MT)
UID:ba639506-8ed1-498e-9941-0e0f2b49ac51
END:VEVENT
BEGIN:VEVENT
DTSTAMP:20260424T204414Z
DTSTART:20220904
SUMMARY:MLB 338 Waiver and Trade Deadline
UID:3e53e75d-2d16-4fe3-9d98-74bc6e8b30c5
END:VEVENT
BEGIN:VEVENT
DTSTAMP:20260424T204414Z
DTSTART:20221031
SUMMARY:338 Championship: MLB
UID:d6f20b36-76cf-4cd6-8c8b-050c6647b829
END:VEVENT
BEGIN:VEVENT
DTSTAMP:20260424T204414Z
DTSTART:20221128
SUMMARY:WC 338 Waiver Deadline
UID:98ae3b58-1e6c-4d39-a033-2ab58dc9e8b4
END:VEVENT
BEGIN:VEVENT
DTSTAMP:20260424T204414Z
DTSTART:20221202
SUMMARY:WC 338 Trade Deadline
UID:9b138886-c815-4ee4-be96-ea8c9c5061fe
END:VEVENT
BEGIN:VEVENT
DTSTAMP:20260424T204414Z
DTSTART:20221217
SUMMARY:338 Championship: WC
UID:b5cced6f-6766-4374-9419-38c657a47720
END:VEVENT
BEGIN:VEVENT
DTSTAMP:20260424T204414Z
DTSTART:20221115
SUMMARY:CFB 338 Waiver Deadline
UID:876a9487-b61d-447b-b129-d01954a95543
END:VEVENT
BEGIN:VEVENT
DTSTAMP:20260424T204414Z
DTSTART:20221127
SUMMARY:CFB 338 Trade Deadline
UID:1f9fb449-50c2-4306-8a52-b6aa0ba99370
END:VEVENT
BEGIN:VEVENT
DTSTAMP:20260424T204414Z
DTSTART:20230109
SUMMARY:338 Championship: CFB
UID:7e68bf7f-b38b-4dc6-8885-d2656c8dd48d
END:VEVENT
BEGIN:VEVENT
DTSTAMP:20260424T204414Z
DTSTART:20230108
SUMMARY:Australian Open (WT) 338 Waiver and Trade Deadline
UID:76669e4f-82b9-443b-becf-d12139f13354
END:VEVENT
BEGIN:VEVENT
DTSTAMP:20260424T204414Z
DTSTART:20230127
SUMMARY:338 Championship: Australian Open (WT)
UID:f3fd5ea1-b6d1-4777-aa21-48ae05cea9cd
END:VEVENT
BEGIN:VEVENT
DTSTAMP:20260424T204414Z
DTSTART:20230108
SUMMARY:Australian Open (MT) 338 Waiver and Trade Deadline
UID:ec6659f5-6bec-4ff5-9070-2a2f785df33e
END:VEVENT
BEGIN:VEVENT
DTSTAMP:20260424T204414Z
DTSTART:20230129
SUMMARY:338 Championship: Australian Open (MT)
UID:f453cdb7-4cad-4db1-b548-55e8df9d8c7f
END:VEVENT
BEGIN:VEVENT
DTSTAMP:20260424T204414Z
DTSTART:20221212
SUMMARY:NFL 338 Waiver Deadline
UID:235b998f-1a33-4676-aec9-a083fe92c379
END:VEVENT
BEGIN:VEVENT
DTSTAMP:20260424T204414Z
DTSTART:20230102
SUMMARY:NFL 338 Trade Deadline
UID:d031274a-cb6c-4908-ab12-77574467b1a3
END:VEVENT
BEGIN:VEVENT
DTSTAMP:20260424T204414Z
DTSTART:20230212
SUMMARY:338 Championship: NFL
UID:53e9d16d-069a-427c-96e4-7fd2103a69e1
END:VEVENT
BEGIN:VEVENT
DTSTAMP:20260424T204414Z
DTSTART:20230312
SUMMARY:CBK 338 Waiver Deadline
UID:8e17aa56-2df1-4a05-bfef-0f7182b21326
END:VEVENT
BEGIN:VEVENT
DTSTAMP:20260424T204414Z
DTSTART:20230315
SUMMARY:CBK 338 Trade Deadline
UID:5eda3966-3965-4caf-ac7c-5f376a4169ac
END:VEVENT
BEGIN:VEVENT
DTSTAMP:20260424T204414Z
DTSTART:20230403
SUMMARY:338 Championship: CBK
UID:a3b6c2b6-4ad6-44a4-97b3-26f7142adf59
END:VEVENT
BEGIN:VEVENT
DTSTAMP:20260424T204414Z
DTSTART:20230402
SUMMARY:Masters 338 Waiver and Trade Deadline
UID:17884630-558b-4c1a-a404-a68eb27693b9
END:VEVENT
BEGIN:VEVENT
DTSTAMP:20260424T204414Z
DTSTART:20230407
SUMMARY:338 Championship: Masters
UID:3d90bc4a-79ef-4193-92a6-07a9fd6a1810
END:VEVENT
BEGIN:VEVENT
DTSTAMP:20260424T204414Z
DTSTART:20230318
SUMMARY:CHK 338 Waiver Deadline
UID:ec97dc93-d55d-4336-ad03-31c96a9a03b5
END:VEVENT
BEGIN:VEVENT
DTSTAMP:20260424T204414Z
DTSTART:20230322
SUMMARY:CHK 338 Trade Deadline
UID:8840def4-c398-4bad-965c-4937bf12bee6
END:VEVENT
BEGIN:VEVENT
DTSTAMP:20260424T204414Z
DTSTART:20230408
SUMMARY:338 Championship: CHK
UID:86fc5085-4dcf-465c-b9ee-3826eb1b421f
END:VEVENT
BEGIN:VEVENT
DTSTAMP:20260424T204414Z
DTSTART:20230506
SUMMARY:KD 338 Waiver and Trade Deadline
UID:8f70e48e-ab17-45ad-a6a0-38d5f770ff01
END:VEVENT
BEGIN:VEVENT
DTSTAMP:20260424T204414Z
DTSTART:20230506
SUMMARY:338 Championship: KD
UID:7f6cf405-b981-414c-8abf-288a9946a8b6
END:VEVENT
BEGIN:VEVENT
DTSTAMP:20260424T204414Z
DTSTART:20230514
SUMMARY:PGA Championship 338 Waiver and Trade Deadline
UID:73cca4f4-d433-40ce-80a1-6613b082bc67
END:VEVENT
BEGIN:VEVENT
DTSTAMP:20260424T204414Z
DTSTART:20230521
SUMMARY:338 Championship: PGA Championship
UID:0c6b9412-78b4-49f2-90b3-786bac08dde4
END:VEVENT
BEGIN:VEVENT
DTSTAMP:20260424T204414Z
DTSTART:20230521
SUMMARY:French Open (WT) 338 Waiver and Trade Deadline
UID:5b50d554-bb9a-47db-aaf4-bc83f631509c
END:VEVENT
BEGIN:VEVENT
DTSTAMP:20260424T204414Z
DTSTART:20230603
SUMMARY:338 Championship: French Open (WT)
UID:e81d00b9-e3da-43e0-90c9-6e4bf4258efd
END:VEVENT
BEGIN:VEVENT
DTSTAMP:20260424T204414Z
DTSTART:20230521
SUMMARY:French Open (MT) 338 Waiver and Trade Deadline
UID:1b31ad19-67fa-43f5-b022-71ac45f72058
END:VEVENT
BEGIN:VEVENT
DTSTAMP:20260424T204414Z
DTSTART:20230604
SUMMARY:338 Championship: French Open (MT)
UID:2bdb11eb-300c-4612-b0d0-5beac91d2967
END:VEVENT
BEGIN:VEVENT
DTSTAMP:20260424T204414Z
DTSTART:20221103
SUMMARY:CL 338 Waiver Deadline
UID:2eaebcd1-ce5b-4719-8a7f-bacd2a1d49f9
END:VEVENT
BEGIN:VEVENT
DTSTAMP:20260424T204414Z
DTSTART:20230303
SUMMARY:CL 338 Trade Deadline
UID:25667721-5ad7-4cb7-bc5b-6cbd50b1c420
END:VEVENT
BEGIN:VEVENT
DTSTAMP:20260424T204414Z
DTSTART:20230610
SUMMARY:338 Championship: CL
UID:6e250c8e-727d-415f-8ae7-e6f842185632
END:VEVENT
BEGIN:VEVENT
DTSTAMP:20260424T204414Z
DTSTART:20230611
SUMMARY:US Open (PGA) 338 Waiver and Trade Deadline
UID:0255a0be-fc93-4bcb-9a72-7f5c40129b98
END:VEVENT
BEGIN:VEVENT
DTSTAMP:20260424T204414Z
DTSTART:20230618
SUMMARY:338 Championship: US Open (PGA)
UID:d2e5cd16-8cf4-4937-b3d5-8d2175ee11af
END:VEVENT
BEGIN:VEVENT
DTSTAMP:20260424T204414Z
DTSTART:20230402
SUMMARY:NHL 338 Waiver and Trade Deadline
UID:30eb60a6-4f15-47d0-bea0-82a5b5ec3066
END:VEVENT
BEGIN:VEVENT
DTSTAMP:20260424T204414Z
DTSTART:20230618
SUMMARY:338 Championship: NHL
UID:b0b7c23b-13c5-4d1d-b5e5-2ca3a0f148f3
END:VEVENT
BEGIN:VEVENT
DTSTAMP:20260424T204414Z
DTSTART:20230402
SUMMARY:NBA 338 Waiver and Trade Deadline
UID:04e071d1-8382-4e10-86bf-b075f3d50cfd
END:VEVENT
BEGIN:VEVENT
DTSTAMP:20260424T204414Z
DTSTART:20230624
SUMMARY:338 Championship: NBA
UID:6bfac692-0656-468b-8b07-a708d521c990
END:VEVENT
BEGIN:VEVENT
DTSTAMP:20260424T204414Z
DTSTART:20230530
SUMMARY:CBS 338 Waiver Deadline
UID:b53ac948-afb6-4899-ba2b-923464d3bdac
END:VEVENT
BEGIN:VEVENT
DTSTAMP:20260424T204414Z
DTSTART:20230606
SUMMARY:CBS 338 Trade Deadline
UID:b6442573-aa0a-4c27-8e79-c606f81b574b
END:VEVENT
BEGIN:VEVENT
DTSTAMP:20260424T204414Z
DTSTART:20230626
SUMMARY:338 Championship: CBS
UID:eb10f9c8-ed66-49d5-932d-16f1eaeb9fb2
END:VEVENT
BEGIN:VEVENT
DTSTAMP:20260424T204414Z
DTSTART:20230626
SUMMARY:Wimbledon (WT) 338 Waiver Deadline
UID:2dbc0006-b33c-4c78-a89d-6a79c400df18
END:VEVENT
BEGIN:VEVENT
DTSTAMP:20260424T204414Z
DTSTART:20230629
SUMMARY:Wimbledon (WT) 338 Trade Deadline
UID:a0a04404-34ad-49f1-a77a-6a69573132b1
END:VEVENT
BEGIN:VEVENT
DTSTAMP:20260424T204414Z
DTSTART:20230715
SUMMARY:338 Championship: Wimbledon (WT)
UID:ee0ccfe5-a902-4213-9b86-73200d94d332
END:VEVENT
BEGIN:VEVENT
DTSTAMP:20260424T204414Z
DTSTART:20230703
SUMMARY:WTn 338 Waiver Deadline
UID:2f4877c7-b4e7-4eac-9efa-b01fdfdf715a
END:VEVENT
BEGIN:VEVENT
DTSTAMP:20260424T204414Z
DTSTART:20230629
SUMMARY:WTn 338 Trade Deadline
UID:381a82e2-84d7-464f-9d6f-563166edf5ba
END:VEVENT
BEGIN:VEVENT
DTSTAMP:20260424T204414Z
DTSTART:20230715
SUMMARY:338 Championship: WTn
UID:2342b68f-21ab-487b-bc23-a3fdd48e2811
END:VEVENT
BEGIN:VEVENT
DTSTAMP:20260424T204414Z
DTSTART:20230629
SUMMARY:Wimbledon (MT) 338 Waiver Deadline
UID:1cbb26f4-e485-412d-8b60-54a0752a0fa6
END:VEVENT
BEGIN:VEVENT
DTSTAMP:20260424T204414Z
DTSTART:20230629
SUMMARY:Wimbledon (MT) 338 Trade Deadline
UID:659f4715-a3b6-4675-819f-82c0768bf021
END:VEVENT
BEGIN:VEVENT
DTSTAMP:20260424T204414Z
DTSTART:20230715
SUMMARY:338 Championship: Wimbledon (MT)
UID:bc3758a7-6ba9-4836-bf0c-319e09019168
END:VEVENT
BEGIN:VEVENT
DTSTAMP:20260424T204414Z
DTSTART:20230703
SUMMARY:MTn 338 Waiver Deadline
UID:1c82925f-06ac-4e4f-9c6c-f0710ca99d91
END:VEVENT
BEGIN:VEVENT
DTSTAMP:20260424T204414Z
DTSTART:20230629
SUMMARY:MTn 338 Trade Deadline
UID:e319d9df-9e4b-40dc-b470-1c6a942c649b
END:VEVENT
BEGIN:VEVENT
DTSTAMP:20260424T204414Z
DTSTART:20230716
SUMMARY:338 Championship: MTn
UID:5a8ebdf1-2005-4367-8457-c63671da84ba
END:VEVENT
BEGIN:VEVENT
DTSTAMP:20260424T204414Z
DTSTART:20230716
SUMMARY:The Open Championship 338 Waiver and Trade Deadline
UID:54f276b0-74d5-4cf5-b619-44cb9d3ad416
END:VEVENT
BEGIN:VEVENT
DTSTAMP:20260424T204414Z
DTSTART:20230723
SUMMARY:338 Championship: The Open Championship
UID:571a51f1-3d9f-473f-90a6-89713dfd79aa
END:VEVENT
BEGIN:VEVENT
DTSTAMP:20260424T204414Z
DTSTART:20230716
SUMMARY:PGA 338 Waiver and Trade Deadline
UID:4f8d97c2-5d24-4287-b5c5-616037cbefd2
END:VEVENT
BEGIN:VEVENT
DTSTAMP:20260424T204414Z
DTSTART:20230723
SUMMARY:338 Championship: PGA
UID:10396bb0-b348-4441-8770-afc808798a84
END:VEVENT
END:VCALENDAR
